BEGIN:VCALENDAR
VERSION:2.0
PRODID:-//ChamberMaster//Event Calendar 2.0//EN
METHOD:PUBLISH
X-PUBLISHED-TTL:P1H
REFRESH-INTERVAL:P1H
CALSCALE:GREGORIAN
BEGIN:VTIMEZONE
TZID:America/Los_Angeles
BEGIN:DAYLIGHT
RRULE:FREQ=YEARLY;BYMONTH=3;BYDAY=2SU
DTSTART:20070101T000000
TZOFFSETFROM:-0800
TZOFFSETTO:-0700
TZNAME:Pacific Daylight Time
END:DAYLIGHT
BEGIN:STANDARD
RRULE:FREQ=YEARLY;BYMONTH=11;BYDAY=1SU
DTSTART:20070101T000000
TZOFFSETFROM:-0700
TZOFFSETTO:-0800
TZNAME:Pacific Standard Time
END:STANDARD
END:VTIMEZONE
BEGIN:VEVENT
DTSTART;TZID=America/Los_Angeles:20260918T170000
DTEND;TZID=America/Los_Angeles:20260918T200000
X-MICROSOFT-CDO-ALLDAYEVENT:FALSE
SUMMARY:2026 Tour of Homes Appreciation & Awards Event
DESCRIPTION:Join us for an unforgettable night on September 18th at 5 PM for the Tour of Homes Appreciation & Awards Dinner presented by Helliesen Lumber & Supply Co!Your ticket includes a raffle ticket\, a drink ticket\, a delicious meal\, and an evening full of fun. This is a fantastic opportunity to interact with builders\, discover the award winners of the 2026 Tour of Homes\, check out their latest projects\, and get excited for the upcoming tour event. Don't miss out on this chance to connect with industry professionals and fellow home enthusiasts. We look forward to seeing you there!
X-ALT-DESC;FMTTYPE=text/html:<!DOCTYPE html><html><head><title></title></head><body aria-disabled="false"><p>Join us for an unforgettable night on September 18th at 5 PM for the Tour of Homes Appreciation &amp\; Awards Dinner presented by <a fr-original-style="" href="https://www.helliesenlumber.com/" style="user-select: auto\;">Helliesen Lumber &amp\; Supply Co</a>!</p><p><strong fr-original-style="" style="font-weight: 700\;">Your ticket includes a raffle ticket\, a drink ticket\, a delicious meal\, and an evening full of fun.&nbsp\;</strong></p><p>This is a fantastic opportunity to interact with builders\, discover the award winners of the 2026 Tour of Homes\, check out their latest projects\, and get excited for the upcoming tour event. Don&rsquo\;t miss out on this chance to connect with industry professionals and fellow home enthusiasts. We look forward to seeing you there!</p></body></html>
LOCATION:5704 W. Washington Avenue Yakima WA 98903
UID:e.3733.1448142
SEQUENCE:3
DTSTAMP:20260423T224418Z
URL:https://memberships.cwhba.org/main-events/Details/2026-tour-of-homes-appreciation-awards-event-1715145?sourceTypeId=Hub
END:VEVENT
END:VCALENDAR
