BEGIN:VCALENDAR
VERSION:2.0
PRODID:-//ChamberMaster//Event Calendar 2.0//EN
METHOD:PUBLISH
X-PUBLISHED-TTL:P1H
REFRESH-INTERVAL:P1H
CALSCALE:GREGORIAN
BEGIN:VTIMEZONE
TZID:America/Los_Angeles
BEGIN:DAYLIGHT
RRULE:FREQ=YEARLY;BYMONTH=3;BYDAY=2SU
DTSTART:20070101T000000
TZOFFSETFROM:-0800
TZOFFSETTO:-0700
TZNAME:Pacific Daylight Time
END:DAYLIGHT
BEGIN:STANDARD
RRULE:FREQ=YEARLY;BYMONTH=11;BYDAY=1SU
DTSTART:20070101T000000
TZOFFSETFROM:-0700
TZOFFSETTO:-0800
TZNAME:Pacific Standard Time
END:STANDARD
END:VTIMEZONE
BEGIN:VEVENT
DTSTART;TZID=America/Los_Angeles:20260528T160000
DTEND;TZID=America/Los_Angeles:20260528T180000
X-MICROSOFT-CDO-ALLDAYEVENT:FALSE
SUMMARY:Sip Happens: CWWB Happy Hour
DESCRIPTION:🍷 Sip Happens: Central Washington Women in Building Council Happy Hour Join us for a relaxed evening of connection and conversation! The Central Washington Women in Building (CWWB) Council invites you to a low-key happy hour at Upside Down Wine in Cle Elum. Come enjoy a glass of wine on us\, light bites\, and great company as we gather to celebrate and connect women in the building industry. This is a wonderful opportunity to: Meet and mingle with other women in the industry Learn more about CWWB and how you can get involved Explore ways to engage with the building community in the Upper County 📅 Date: May 28th ⏰ Time: 4-6PM 📍 Location: Upside Down Wine\, 205 E First\, Cle Elum Whether you're already part of the industry or curious to learn more\, we'd love to have you join us. Bring a friend and come raise a glass with CWWB!
X-ALT-DESC;FMTTYPE=text/html:<!DOCTYPE html><html><head><title></title></head><body aria-disabled="false"><p>🍷 Sip Happens: Central Washington Women in Building Council Happy Hour Join us for a relaxed evening of connection and conversation!&nbsp\;</p><p>The Central Washington Women in Building (CWWB) Council invites you to a low-key happy hour at Upside Down Wine in Cle Elum. Come enjoy a glass of wine on us\, light bites\, and great company as we gather to celebrate and connect women in the building industry.&nbsp\;</p><ul fr-original-style="" style="list-style-position: inside\;"><li>This is a wonderful opportunity to:&nbsp\;</li><li>Meet and mingle with other women in the industry</li><li>&nbsp\;Learn more about CWWB and how you can get involved&nbsp\;</li><li>Explore ways to engage with the building community in the Upper County</li></ul><p>&nbsp\;📅 Date: May 28th</p><p>&nbsp\;⏰ Time: 4-6PM&nbsp\;</p><p>📍 Location: Upside Down Wine\, 205 E First\, Cle Elum&nbsp\;</p><p>Whether you&rsquo\;re already part of the industry or curious to learn more\, we&rsquo\;d love to have you join us. Bring a friend and come raise a glass with CWWB!</p></body></html>
LOCATION:E 205 1st St Cle Elum WA 98922
UID:e.3733.1447200
SEQUENCE:3
DTSTAMP:20260423T195640Z
URL:https://memberships.cwhba.org/main-events/Details/sip-happens-cwwb-happy-hour-1714053?sourceTypeId=Hub
END:VEVENT
END:VCALENDAR
