BEGIN:VCALENDAR
VERSION:2.0
PRODID:-//ChamberMaster//Event Calendar 2.0//EN
METHOD:PUBLISH
X-PUBLISHED-TTL:P1H
REFRESH-INTERVAL:P1H
CALSCALE:GREGORIAN
BEGIN:VTIMEZONE
TZID:America/Los_Angeles
BEGIN:DAYLIGHT
RRULE:FREQ=YEARLY;BYMONTH=3;BYDAY=2SU
DTSTART:20070101T000000
TZOFFSETFROM:-0800
TZOFFSETTO:-0700
TZNAME:Pacific Daylight Time
END:DAYLIGHT
BEGIN:STANDARD
RRULE:FREQ=YEARLY;BYMONTH=11;BYDAY=1SU
DTSTART:20070101T000000
TZOFFSETFROM:-0700
TZOFFSETTO:-0800
TZNAME:Pacific Standard Time
END:STANDARD
END:VTIMEZONE
BEGIN:VEVENT
DTSTART;TZID=America/Los_Angeles:20260512T130000
DTEND;TZID=America/Los_Angeles:20260512T163000
X-MICROSOFT-CDO-ALLDAYEVENT:FALSE
SUMMARY:CPR/AED BASIC FIRST AID
DESCRIPTION:The first aid/CPR/AED course is taught based on the Health and Safety Institute guidelines for adults\, children\, and infants to meet or exceed occupational first aid certification. The goal of the class is for participants to gain or improve knowledge and skill proficiency in first aid\, conventional Cardiopulmonary Resuscitation (CPR) and Automated External Defibrillator (AED). Skills practice include recovery position\, conventional CPR/AED\, controlling severe life-threatening external bleeding\, and other medical emergencies that may occur in the workplace or home to prevent needless disabling injuries\, illnesses\, and death. The course is 4-hours in length and digital certificates are issued upon successful completion. Certification is valid for two years. CEUs may be offered for specific programs/industries.CLICK LINK TO REGISTERhttps://www.biaw.com/classes/cpraed-basic-first-aid-3321MEMBERS: $65\nNON-MEMBERS: $85INSTRUCTOR: ANDY ARRANTS
X-ALT-DESC;FMTTYPE=text/html:<!DOCTYPE html><html><head><title></title></head><body aria-disabled="false"><p>The first aid/CPR/AED course is taught based on the Health and Safety Institute guidelines for adults\, children\, and infants to meet or exceed occupational first aid certification. The goal of the class is for participants to gain or improve knowledge and skill proficiency in first aid\, conventional Cardiopulmonary Resuscitation (CPR) and Automated External Defibrillator (AED). Skills practice include recovery position\, conventional CPR/AED\, controlling severe life-threatening external bleeding\, and other medical emergencies that may occur in the workplace or home to prevent needless disabling injuries\, illnesses\, and death. The course is 4-hours in length and digital certificates are issued upon successful completion. Certification is valid for two years. CEUs may be offered for specific programs/industries.</p><p>CLICK LINK TO REGISTER</p><p><span style="font-family: Aptos\, Aptos_EmbeddedFont\, Aptos_MSFontService\, Calibri\, Helvetica\, sans-serif\; font-size: 12pt\; color: rgb(0\, 0\, 0)\;"><a data-auth="NotApplicable" data-olk-copy-source="CalendarCompose" fr-original-style="" href="https://www.biaw.com/classes/cpraed-basic-first-aid-3321" rel="noopener noreferrer" style="user-select: auto\; color: inherit\;" target="_blank">https://www.biaw.com/classes/cpraed-basic-first-aid-3321</a></span></p><div data-olk-copy-source="CalendarCompose" style="font-family: Aptos\, Aptos_EmbeddedFont\, Aptos_MSFontService\, Calibri\, Helvetica\, sans-serif\; font-size: 12pt\; color: rgb(0\, 0\, 0)\;">MEMBERS: <span style="font-weight: 600\;">$65</span></div><div style="font-family: Aptos\, Aptos_EmbeddedFont\, Aptos_MSFontService\, Calibri\, Helvetica\, sans-serif\; font-size: 12pt\; color: rgb(0\, 0\, 0)\;"><span style="font-weight: 600\;"><br></span></div><div style="font-family: Aptos\, Aptos_EmbeddedFont\, Aptos_MSFontService\, Calibri\, Helvetica\, sans-serif\; font-size: 12pt\; color: rgb(0\, 0\, 0)\;">NON-MEMBERS: <span style="font-weight: 600\;">$85</span></div><p><span data-olk-copy-source="CalendarCompose" style="font-family: Aptos\, Aptos_EmbeddedFont\, Aptos_MSFontService\, Calibri\, Helvetica\, sans-serif\; font-size: 12pt\; color: rgb(0\, 0\, 0)\; font-weight: 600\;">INSTRUCTOR: ANDY ARRANTS</span></p></body></html>
LOCATION:3301 W Nob Hill Blvd. Yakima WA 98902
UID:e.3733.1444538
SEQUENCE:3
DTSTAMP:20260423T200032Z
URL:https://memberships.cwhba.org/main-events/Details/cpr-aed-basic-first-aid-1710914?sourceTypeId=Hub
END:VEVENT
END:VCALENDAR
