BEGIN:VCALENDAR
VERSION:2.0
PRODID:-//ChamberMaster//Event Calendar 2.0//EN
METHOD:PUBLISH
X-PUBLISHED-TTL:P1H
REFRESH-INTERVAL:P1H
CALSCALE:GREGORIAN
BEGIN:VTIMEZONE
TZID:America/Los_Angeles
BEGIN:DAYLIGHT
RRULE:FREQ=YEARLY;BYMONTH=3;BYDAY=2SU
DTSTART:20070101T000000
TZOFFSETFROM:-0800
TZOFFSETTO:-0700
TZNAME:Pacific Daylight Time
END:DAYLIGHT
BEGIN:STANDARD
RRULE:FREQ=YEARLY;BYMONTH=11;BYDAY=1SU
DTSTART:20070101T000000
TZOFFSETFROM:-0700
TZOFFSETTO:-0800
TZNAME:Pacific Standard Time
END:STANDARD
END:VTIMEZONE
BEGIN:VEVENT
DTSTART;TZID=America/Los_Angeles:20260515T080000
DTEND;TZID=America/Los_Angeles:20260515T150000
X-MICROSOFT-CDO-ALLDAYEVENT:FALSE
SUMMARY:CAPS III- DETAILS & SOLUTIONS FOR LIVABLE HOMES AND AGING-IN-PLACE
DESCRIPTION:This course builds on the CAPS II course (which is a highly recommended prerequisite to this course) by introducing design solutions and techniques for professionals whose clients require specialized design and equipment to live and thrive comfortably in their homes. Whole house product specification and installation techniques will be covered accompanied by practical\, hands-on activities.   Note- There are certificates for each CAPS class\, but attendee must complete all three in the series for the CAPS designation. CLICK LINK TO REGISTERhttps://www.biaw.com/classes/caps-iii-details-solutions-for-livable-homes-and-aginginplace-8071MEMBERS: $150NON-MEMBERS: $150INSTRUCTOR: ANDY ARRANTS
X-ALT-DESC;FMTTYPE=text/html:<!DOCTYPE html><html><head><title></title></head><body aria-disabled="false"><p>This course builds on the CAPS II course (which is a highly recommended prerequisite to this course) by introducing design solutions and techniques for professionals whose clients require specialized design and equipment to live and thrive comfortably in their homes. Whole house product specification and installation techniques will be covered accompanied by practical\, hands-on activities.&nbsp\;</p><p>&bull\; Note- There are certificates for each CAPS class\, but attendee must complete all three in the series for the CAPS designation.&nbsp\;</p><p>CLICK LINK TO REGISTER</p><p><span style="font-family: Aptos\, Aptos_EmbeddedFont\, Aptos_MSFontService\, Calibri\, Helvetica\, sans-serif\; font-size: 12pt\; color: rgb(0\, 0\, 0)\;"><a data-auth="NotApplicable" data-olk-copy-source="CalendarCompose" fr-original-style="" href="https://www.biaw.com/classes/caps-iii-details-solutions-for-livable-homes-and-aginginplace-8071" rel="noopener noreferrer" style="user-select: auto\; color: inherit\;" target="_blank">https://www.biaw.com/classes/caps-iii-details-solutions-for-livable-homes-and-aginginplace-8071</a></span></p><p>MEMBERS: $150</p><p>NON-MEMBERS: $150</p><p>INSTRUCTOR: ANDY ARRANTS</p></body></html>
LOCATION:3301 W Nob Hill Blvd. Yakima WA 98902
UID:e.3733.1447124
SEQUENCE:3
DTSTAMP:20260423T200325Z
URL:https://memberships.cwhba.org/main-events/Details/caps-iii-details-solutions-for-livable-homes-and-aging-in-place-1713958?sourceTypeId=Hub
END:VEVENT
END:VCALENDAR
