BEGIN:VCALENDAR
VERSION:2.0
PRODID:-//ChamberMaster//Event Calendar 2.0//EN
METHOD:PUBLISH
X-PUBLISHED-TTL:P1H
REFRESH-INTERVAL:P1H
CALSCALE:GREGORIAN
BEGIN:VTIMEZONE
TZID:America/Los_Angeles
BEGIN:DAYLIGHT
RRULE:FREQ=YEARLY;BYMONTH=3;BYDAY=2SU
DTSTART:20070101T000000
TZOFFSETFROM:-0800
TZOFFSETTO:-0700
TZNAME:Pacific Daylight Time
END:DAYLIGHT
BEGIN:STANDARD
RRULE:FREQ=YEARLY;BYMONTH=11;BYDAY=1SU
DTSTART:20070101T000000
TZOFFSETFROM:-0700
TZOFFSETTO:-0800
TZNAME:Pacific Standard Time
END:STANDARD
END:VTIMEZONE
BEGIN:VEVENT
DTSTART;TZID=America/Los_Angeles:20260514T080000
DTEND;TZID=America/Los_Angeles:20260514T150000
X-MICROSOFT-CDO-ALLDAYEVENT:FALSE
SUMMARY:CAPS II- DESIGN CONCEPTS FOR LIVABLE HOMES AND AGING-IN-PLACE
DESCRIPTION:There is an increasing desire among today's homeowners to live in one's home as long as possible which has created a strong demand for products and services serving this audience. To help home owners make their home a safe and comfortable living environment for the long term\, many responsive and innovative products are emerging. Likewise\, service providers are answering this demand by focusing their businesses on creating new homes and renovations that provide design flexibility\, pleasing aesthetics\, high function and usability for all people\, without regard to age\, income or ability level\, and regardless of life's changes and challenges. The goal of this course is to enable participants to identify common challenges within the home and understand attractive design concepts that create a safe and comfortable environment for clients who want to age in place as well as identify with one or more of these groups: Individuals who are not experiencing health issues related to aging\, individuals who have a progressive or other condition that requires home modifications or equipment\, and individuals who are dealing with an abrupt or traumatic health-related change. CLICK LINK TO REGISTERhttps://www.biaw.com/classes/caps-ii-design-concepts-for-livable-homes-and-aginginplace-4232MEMBERS: $150NON-MEMBERS: $150INSTRUCTOR: ANDY ARRANTS
X-ALT-DESC;FMTTYPE=text/html:<!DOCTYPE html><html><head><title></title></head><body aria-disabled="false"><p>There is an increasing desire among today&#39\;s homeowners to live in one&#39\;s home as long as possible which has created a strong demand for products and services serving this audience. To help home owners make their home a safe and comfortable living environment for the long term\, many responsive and innovative products are emerging. Likewise\, service providers are answering this demand by focusing their businesses on creating new homes and renovations that provide design flexibility\, pleasing aesthetics\, high function and usability for all people\, without regard to age\, income or ability level\, and regardless of life&rsquo\;s changes and challenges. The goal of this course is to enable participants to identify common challenges within the home and understand attractive design concepts that create a safe and comfortable environment for clients who want to age in place as well as identify with one or more of these groups: Individuals who are not experiencing health issues related to aging\, individuals who have a progressive or other condition that requires home modifications or equipment\, and individuals who are dealing with an abrupt or traumatic health-related change.&nbsp\;</p><p>CLICK LINK TO REGISTER</p><p><span style="font-family: Aptos\, sans-serif\; font-size: 12pt\; color: rgb(0\, 0\, 0)\;"><a data-auth="NotApplicable" data-olk-copy-source="CalendarCompose" fr-original-style="" href="https://www.biaw.com/classes/caps-ii-design-concepts-for-livable-homes-and-aginginplace-4232" rel="noopener noreferrer" style="user-select: auto\; color: inherit\;" target="_blank">https://www.biaw.com/classes/caps-ii-design-concepts-for-livable-homes-and-aginginplace-4232</a></span></p><p>MEMBERS: $150</p><p>NON-MEMBERS: $150</p><p>INSTRUCTOR: ANDY ARRANTS</p></body></html>
LOCATION:3301 W Nob Hill Blvd. Yakima WA 98902
UID:e.3733.1447117
SEQUENCE:3
DTSTAMP:20260423T200337Z
URL:https://memberships.cwhba.org/main-events/Details/caps-ii-design-concepts-for-livable-homes-and-aging-in-place-1713934?sourceTypeId=Hub
END:VEVENT
END:VCALENDAR
