BEGIN:VCALENDAR
VERSION:2.0
PRODID:-//ChamberMaster//Event Calendar 2.0//EN
METHOD:PUBLISH
X-PUBLISHED-TTL:P1H
REFRESH-INTERVAL:P1H
CALSCALE:GREGORIAN
BEGIN:VTIMEZONE
TZID:America/Los_Angeles
BEGIN:DAYLIGHT
RRULE:FREQ=YEARLY;BYMONTH=3;BYDAY=2SU
DTSTART:20070101T000000
TZOFFSETFROM:-0800
TZOFFSETTO:-0700
TZNAME:Pacific Daylight Time
END:DAYLIGHT
BEGIN:STANDARD
RRULE:FREQ=YEARLY;BYMONTH=11;BYDAY=1SU
DTSTART:20070101T000000
TZOFFSETFROM:-0700
TZOFFSETTO:-0800
TZNAME:Pacific Standard Time
END:STANDARD
END:VTIMEZONE
BEGIN:VEVENT
DTSTART;TZID=America/Los_Angeles:20260513T080000
DTEND;TZID=America/Los_Angeles:20260513T150000
X-MICROSOFT-CDO-ALLDAYEVENT:FALSE
SUMMARY:CAPS I- MARKETING & COMMUNICATING WITH AGING-IN-PLACE CLIENTS
DESCRIPTION:Millions of Americans are living longer and more active lives. Because they are embracing newly found and changing lifestyles\, they need to revitalize their home environment. Identifying this burgeoning opportunity and then developing the skills to interact with this market can help you grow your business dramatically. This course equips participants with the knowledge and tools to effectively market and sell services to the aging-in-place (AIP) market. This course will benefit builders\, remodelers and allied professionals that serve the aging in place market\, including occupational therapists\, real estate professionals and trade contractors as well as academics.CLICK LINK TO REGISTER:https://www.biaw.com/classes/caps-i-marketing-communicating-with-aginginplace-clients-4495  MEMBERS: $150 NON-MEMBERS: $150 INSTRUCTOR: ANDY ARRANTS
X-ALT-DESC;FMTTYPE=text/html:<!DOCTYPE html><html><head><title></title></head><body aria-disabled="false"><p>Millions of Americans are living longer and more active lives. Because they are embracing newly found and changing lifestyles\, they need to revitalize their home environment. Identifying this burgeoning opportunity and then developing the skills to interact with this market can help you grow your business dramatically. This course equips participants with the knowledge and tools to effectively market and sell services to the aging-in-place (AIP) market. This course will benefit builders\, remodelers and allied professionals that serve the aging in place market\, including occupational therapists\, real estate professionals and trade contractors as well as academics.</p><p>CLICK LINK TO REGISTER:</p><p><span style="font-family: Aptos\, sans-serif\; font-size: 12pt\; color: rgb(0\, 0\, 0)\;"><a data-auth="NotApplicable" data-olk-copy-source="CalendarCompose" fr-original-style="" href="https://www.biaw.com/classes/caps-i-marketing-communicating-with-aginginplace-clients-4495" rel="noopener noreferrer" style="user-select: auto\; color: inherit\;" target="_blank">https://www.biaw.com/classes/caps-i-marketing-communicating-with-aginginplace-clients-4495</a></span> </p><p>&nbsp\;MEMBERS: $150&nbsp\;</p><p>NON-MEMBERS: $150&nbsp\;</p><p>INSTRUCTOR: ANDY ARRANTS</p></body></html>
LOCATION:3301 W Nob Hill Blvd. Yakima WA 98902
UID:e.3733.1447109
SEQUENCE:3
DTSTAMP:20260423T200210Z
URL:https://memberships.cwhba.org/main-events/Details/caps-i-marketing-communicating-with-aging-in-place-clients-1713926?sourceTypeId=Hub
END:VEVENT
END:VCALENDAR
