BEGIN:VCALENDAR
VERSION:2.0
PRODID:-//ChamberMaster//Event Calendar 2.0//EN
METHOD:PUBLISH
X-PUBLISHED-TTL:P1H
REFRESH-INTERVAL:P1H
CALSCALE:GREGORIAN
BEGIN:VTIMEZONE
TZID:America/Los_Angeles
BEGIN:DAYLIGHT
RRULE:FREQ=YEARLY;BYMONTH=3;BYDAY=2SU
DTSTART:20070101T000000
TZOFFSETFROM:-0800
TZOFFSETTO:-0700
TZNAME:Pacific Daylight Time
END:DAYLIGHT
BEGIN:STANDARD
RRULE:FREQ=YEARLY;BYMONTH=11;BYDAY=1SU
DTSTART:20070101T000000
TZOFFSETFROM:-0700
TZOFFSETTO:-0800
TZNAME:Pacific Standard Time
END:STANDARD
END:VTIMEZONE
BEGIN:VEVENT
DTSTART;TZID=America/Los_Angeles:20260729T080000
DTEND;TZID=America/Los_Angeles:20260729T130000
X-MICROSOFT-CDO-ALLDAYEVENT:FALSE
SUMMARY:Builders Blueprint Bus Tour 2026
DESCRIPTION:Presented by the Central Washington Home Builders Association (CWHBA) in collaboration with Building North Central Washington (BNCW).Join us for our second annual bus tour designed to strengthen partnerships between builders\, local jurisdictions\, and community leaders. The Builders Blueprint Bus Tour offers city and county staff\, elected officials\, and industry professionals a close-up look at the development process from planning to completion.🛠️ What to Expect: Guided Bus Tour: Visit 4 5 development sites across Chelan-Douglas Counties\, each representing a unique stage in the building process. Builder Spotlights at Each Stop - Where you will learn about: - Site and project goals - Design and construction highlights - Success stories and innovation - Barriers\, regulatory hurdles\, and lessons learned - Opportunities to streamline collaboration between agencies and builders Lunch & Wrap-Up Discussion: The tour will conclude with lunch and continued conversation\, providing space for reflection and solution-oriented dialogue. 👥 Who's Invited: - City and county planning and permitting staff - Local elected officials - Builders and developer representatives - Sponsors- This event is a joint initiative by CWHBA and BNCW\, aimed at bridging communication\, building trust\, and supporting smart\, sustainable growth throughout Central Washington.
X-ALT-DESC;FMTTYPE=text/html:<!DOCTYPE html><html><head><title></title></head><body aria-disabled="false"><div style="color: rgb(0\, 0\, 0)\; font-style: normal\; font-variant-ligatures: normal\; font-variant-caps: normal\; font-weight: 400\; letter-spacing: normal\; orphans: 2\; text-indent: 0px\; text-transform: none\; widows: 2\; word-spacing: 0px\; -webkit-text-stroke-width: 0px\; white-space: normal\; text-decoration-thickness: initial\; text-decoration-style: initial\; text-decoration-color: initial\; text-align: left\; margin: 0px 0px 10px\; font-family: Aptos\, Aptos_EmbeddedFont\, Aptos_MSFontService\, Calibri\, Helvetica\, sans-serif\; font-size: 11pt\;"><span style="font-size: 18px\;">Presented by the Central Washington Home Builders Association (CWHBA) in collaboration with Building North Central Washington (BNCW).</span></div><div style="color: rgb(0\, 0\, 0)\; font-style: normal\; font-variant-ligatures: normal\; font-variant-caps: normal\; font-weight: 400\; letter-spacing: normal\; orphans: 2\; text-indent: 0px\; text-transform: none\; widows: 2\; word-spacing: 0px\; -webkit-text-stroke-width: 0px\; white-space: normal\; text-decoration-thickness: initial\; text-decoration-style: initial\; text-decoration-color: initial\; text-align: left\; margin: 0px 0px 10px\; font-family: Aptos\, Aptos_EmbeddedFont\, Aptos_MSFontService\, Calibri\, Helvetica\, sans-serif\; font-size: 11pt\;"><span style="font-size: 18px\;">Join us for our second annual bus tour designed to strengthen partnerships between builders\, local jurisdictions\, and community leaders. The Builders Blueprint Bus Tour offers city and county staff\, elected officials\, and industry professionals a close-up look at the development process&mdash\;from planning to completion.</span></div><div data-olk-copy-source="CalendarCompose" style="text-align: left\; text-indent: 0px\; margin: 0px 0px 10px\; font-family: Aptos\, Aptos_EmbeddedFont\, Aptos_MSFontService\, Calibri\, Helvetica\, sans-serif\; font-size: 11pt\; color: rgb(0\, 0\, 0)\;"><span style="font-size: 18px\;">🛠️ <span style="font-weight: 700\;">What to Expect:&nbsp\;</span></span></div><div style="text-align: left\; text-indent: 0px\; margin: 0px 0px 10px\; font-family: Aptos\, Aptos_EmbeddedFont\, Aptos_MSFontService\, Calibri\, Helvetica\, sans-serif\; font-size: 11pt\; color: rgb(0\, 0\, 0)\;"><span style="font-size: 18px\;"><u>Guided Bus Tour:</u> Visit 4&ndash\;5 development sites across Chelan-Douglas Counties\, each representing a unique stage in the building process.&nbsp\;</span></div><div style="text-align: left\; text-indent: 0px\; margin: 0px 0px 10px\; font-family: Aptos\, Aptos_EmbeddedFont\, Aptos_MSFontService\, Calibri\, Helvetica\, sans-serif\; font-size: 11pt\; color: rgb(0\, 0\, 0)\;"><span style="font-size: 18px\;">Builder Spotlights at Each Stop - Where you will learn about:&nbsp\;</span></div><div style="text-align: left\; text-indent: 0px\; margin: 0px 0px 10px\; font-family: Aptos\, Aptos_EmbeddedFont\, Aptos_MSFontService\, Calibri\, Helvetica\, sans-serif\; font-size: 11pt\; color: rgb(0\, 0\, 0)\;"><span style="font-size: 18px\;">- Site and project goals&nbsp\;</span></div><div style="text-align: left\; text-indent: 0px\; margin: 0px 0px 10px\; font-family: Aptos\, Aptos_EmbeddedFont\, Aptos_MSFontService\, Calibri\, Helvetica\, sans-serif\; font-size: 11pt\; color: rgb(0\, 0\, 0)\;"><span style="font-size: 18px\;">- Design and construction highlights&nbsp\;</span></div><div style="text-align: left\; text-indent: 0px\; margin: 0px 0px 10px\; font-family: Aptos\, Aptos_EmbeddedFont\, Aptos_MSFontService\, Calibri\, Helvetica\, sans-serif\; font-size: 11pt\; color: rgb(0\, 0\, 0)\;"><span style="font-size: 18px\;">- Success stories and innovation&nbsp\;</span></div><div style="text-align: left\; text-indent: 0px\; margin: 0px 0px 10px\; font-family: Aptos\, Aptos_EmbeddedFont\, Aptos_MSFontService\, Calibri\, Helvetica\, sans-serif\; font-size: 11pt\; color: rgb(0\, 0\, 0)\;"><span style="font-size: 18px\;">- Barriers\, regulatory hurdles\, and lessons learned&nbsp\;</span></div><div style="text-align: left\; text-indent: 0px\; margin: 0px 0px 10px\; font-family: Aptos\, Aptos_EmbeddedFont\, Aptos_MSFontService\, Calibri\, Helvetica\, sans-serif\; font-size: 11pt\; color: rgb(0\, 0\, 0)\;"><span style="font-size: 18px\;">- Opportunities to streamline collaboration between agencies and builders&nbsp\;</span></div><div style="text-align: left\; text-indent: 0px\; margin: 0px 0px 10px\; font-family: Aptos\, Aptos_EmbeddedFont\, Aptos_MSFontService\, Calibri\, Helvetica\, sans-serif\; font-size: 11pt\; color: rgb(0\, 0\, 0)\;"><span style="font-size: 18px\;"><u>Lunch &amp\; Wrap-Up Discussion:</u> The tour will conclude with lunch and continued conversation\, providing space for reflection and solution-oriented dialogue.&nbsp\;</span></div><div style="text-align: left\; text-indent: 0px\; margin: 0px 0px 10px\; font-family: Aptos\, Aptos_EmbeddedFont\, Aptos_MSFontService\, Calibri\, Helvetica\, sans-serif\; font-size: 11pt\; color: rgb(0\, 0\, 0)\;"><span style="font-size: 18px\;"><span style="font-weight: 700\;">👥 Who&rsquo\;s Invited:&nbsp\;</span></span></div><div style="text-align: left\; text-indent: 0px\; margin: 0px 0px 10px\; font-family: Aptos\, Aptos_EmbeddedFont\, Aptos_MSFontService\, Calibri\, Helvetica\, sans-serif\; font-size: 11pt\; color: rgb(0\, 0\, 0)\;"><span style="font-size: 18px\;">- City and county planning and permitting staff&nbsp\;</span></div><div style="text-align: left\; text-indent: 0px\; margin: 0px 0px 10px\; font-family: Aptos\, Aptos_EmbeddedFont\, Aptos_MSFontService\, Calibri\, Helvetica\, sans-serif\; font-size: 11pt\; color: rgb(0\, 0\, 0)\;"><span style="font-size: 18px\;">- Local elected officials&nbsp\;</span></div><div style="text-align: left\; text-indent: 0px\; margin: 0px 0px 10px\; font-family: Aptos\, Aptos_EmbeddedFont\, Aptos_MSFontService\, Calibri\, Helvetica\, sans-serif\; font-size: 11pt\; color: rgb(0\, 0\, 0)\;"><span style="font-size: 18px\;">- Builders and developer representatives&nbsp\;</span></div><div style="text-align: left\; text-indent: 0px\; margin: 0px 0px 10px\; font-family: Aptos\, Aptos_EmbeddedFont\, Aptos_MSFontService\, Calibri\, Helvetica\, sans-serif\; font-size: 11pt\; color: rgb(0\, 0\, 0)\;"><span style="font-size: 18px\;">- Sponsors</span></div><div style="text-align: left\; text-indent: 0px\; margin: 0px 0px 10px\; font-family: Aptos\, Aptos_EmbeddedFont\, Aptos_MSFontService\, Calibri\, Helvetica\, sans-serif\; font-size: 11pt\; color: rgb(0\, 0\, 0)\;"><span style="font-size: 18px\;">- This event is a joint initiative by CWHBA and BNCW\, aimed at bridging communication\, building trust\, and supporting smart\, sustainable growth throughout Central Washington. </span></div></body></html>
LOCATION:2201 N Wenatchee Ave Wenatchee WA 98801
UID:e.3733.1447573
SEQUENCE:3
DTSTAMP:20260423T200150Z
URL:https://memberships.cwhba.org/main-events/Details/builders-blueprint-bus-tour-2026-1714514?sourceTypeId=Hub
END:VEVENT
END:VCALENDAR
